BEGIN:VCALENDAR
VERSION:2.0
PRODID:-// - ECPv5.1.6//NONSGML v1.0//EN
CALSCALE:GREGORIAN
METHOD:PUBLISH
X-ORIGINAL-URL:https://backtosat.ro
X-WR-CALDESC:Events for 
BEGIN:VTIMEZONE
TZID:UTC
BEGIN:STANDARD
TZOFFSETFROM:+0000
TZOFFSETTO:+0000
TZNAME:UTC
DTSTART:20190101T000000
END:STANDARD
END:VTIMEZONE
BEGIN:VEVENT
DTSTART;TZID=UTC:20190324T080000
DTEND;TZID=UTC:20190324T170000
DTSTAMP:20260421T114801
CREATED:20190128T143919Z
LAST-MODIFIED:20190220T093937Z
UID:613-1553414400-1553446800@backtosat.ro
SUMMARY:Târg de primăvară Feldioara 2019
DESCRIPTION:Pe 24 martie găsim cârnați\, brânză\, legume\, fructe și multe alte bunătăți la târgul de primăvară din Feldioara\, județul Brașov. \nCine împarte\, parte-și face:ShareClick to share on Facebook (Opens in new window)Click to share on LinkedIn (Opens in new window)Click to share on WhatsApp (Opens in new window)
URL:https://backtosat.ro/targuri/targ-de-primavara-feldioara/
LOCATION:Feldioara\, județul Brașov
END:VEVENT
END:VCALENDAR