BEGIN:VCALENDAR
VERSION:2.0
PRODID:-// - ECPv5.1.6//NONSGML v1.0//EN
CALSCALE:GREGORIAN
METHOD:PUBLISH
X-ORIGINAL-URL:https://backtosat.ro
X-WR-CALDESC:Events for 
BEGIN:VTIMEZONE
TZID:UTC
BEGIN:STANDARD
TZOFFSETFROM:+0000
TZOFFSETTO:+0000
TZNAME:UTC
DTSTART:20190101T000000
END:STANDARD
END:VTIMEZONE
BEGIN:VEVENT
DTSTART;TZID=UTC:20190630T100000
DTEND;TZID=UTC:20190630T200000
DTSTAMP:20260421T101026
CREATED:20190129T072542Z
LAST-MODIFIED:20190220T093936Z
UID:625-1561888800-1561924800@backtosat.ro
SUMMARY:Sărbătoarea Iilor 2019
DESCRIPTION:La Cezieni încă se mai păstrează tradiția cămășilor cusute printr-o sărbatoare a acestora. Veți găsi expoziţii de ii şi costume populare autentice\, un simpozion tematic\, un târg de meşteșuguri populare\, o paradă națională a portului popular\, o horă a iilor și multă voie bună \nCine împarte\, parte-și face:ShareClick to share on Facebook (Opens in new window)Click to share on LinkedIn (Opens in new window)Click to share on WhatsApp (Opens in new window)
URL:https://backtosat.ro/targuri/sarbatoarea-iilor-2019/
LOCATION:Cezieni\, județul Olt
END:VEVENT
END:VCALENDAR