BEGIN:VCALENDAR
VERSION:2.0
PRODID:-// - ECPv5.1.6//NONSGML v1.0//EN
CALSCALE:GREGORIAN
METHOD:PUBLISH
X-ORIGINAL-URL:https://backtosat.ro
X-WR-CALDESC:Events for 
BEGIN:VTIMEZONE
TZID:UTC
BEGIN:STANDARD
TZOFFSETFROM:+0000
TZOFFSETTO:+0000
TZNAME:UTC
DTSTART:20190101T000000
END:STANDARD
END:VTIMEZONE
BEGIN:VEVENT
DTSTART;TZID=UTC:20190630T090000
DTEND;TZID=UTC:20190630T190000
DTSTAMP:20260419T020105
CREATED:20190128T134902Z
LAST-MODIFIED:20190220T093936Z
UID:607-1561885200-1561921200@backtosat.ro
SUMMARY:Măsura Laptelui 2019
DESCRIPTION:La Șirnea\, comuna Fundata în Brașov\, de cincizeci de ani încoace se măsoare laptele la sfârșitul lui Iunie\, anul acesta chiar în 30 iunie. Festival care te introduce în lumea tradițională a satului și a păcurarilor (ciobanilor)\, atracția principală fiind mulsul oilor și măsuratul laptelui\, dar și parada portului popular. În plan secundar bucate Brașovene și muzică populară. \nCine împarte\, parte-și face:ShareClick to share on Facebook (Opens in new window)Click to share on LinkedIn (Opens in new window)Click to share on WhatsApp (Opens in new window)
URL:https://backtosat.ro/targuri/masura-laptelui-2019/
LOCATION:Sirnea\, com. Fundata\, județul Brașov\, Romania
END:VEVENT
END:VCALENDAR