BEGIN:VCALENDAR
VERSION:2.0
PRODID:-// - ECPv5.1.6//NONSGML v1.0//EN
CALSCALE:GREGORIAN
METHOD:PUBLISH
X-ORIGINAL-URL:https://backtosat.ro
X-WR-CALDESC:Events for 
BEGIN:VTIMEZONE
TZID:UTC
BEGIN:STANDARD
TZOFFSETFROM:+0000
TZOFFSETTO:+0000
TZNAME:UTC
DTSTART:20190101T000000
END:STANDARD
END:VTIMEZONE
BEGIN:VEVENT
DTSTART;TZID=UTC:20190223T170000
DTEND;TZID=UTC:20190223T230000
DTSTAMP:20260421T144919
CREATED:20190205T125605Z
LAST-MODIFIED:20190220T073106Z
UID:665-1550941200-1550962800@backtosat.ro
SUMMARY:Balul Gospodarilor 2019
DESCRIPTION:Căminul cultural Lerești (județul Aregș) găzduiește anul acesta Balul Gospodarilor\, alături de sărbătoarea Dragobetelor. Se petrece cu muzică populară\, hori și jocuri\, voie bună și se intră doar cu costum popular. \nCine împarte\, parte-și face:ShareClick to share on Facebook (Opens in new window)Click to share on LinkedIn (Opens in new window)Click to share on WhatsApp (Opens in new window)
URL:https://backtosat.ro/targuri/balul-gospodarilor-2019/
LOCATION:Leresti\, județul Argeș
END:VEVENT
END:VCALENDAR